BEGIN:VCALENDAR
VERSION:2.0
PRODID:-//Dallas County Republican Party - ECPv6.10.1//NONSGML v1.0//EN
CALSCALE:GREGORIAN
METHOD:PUBLISH
X-ORIGINAL-URL:https://dallasgop.org
X-WR-CALDESC:Events for Dallas County Republican Party
REFRESH-INTERVAL;VALUE=DURATION:PT1H
X-Robots-Tag:noindex
X-PUBLISHED-TTL:PT1H
BEGIN:VTIMEZONE
TZID:America/Chicago
BEGIN:DAYLIGHT
TZOFFSETFROM:-0600
TZOFFSETTO:-0500
TZNAME:CDT
DTSTART:20250309T080000
END:DAYLIGHT
BEGIN:STANDARD
TZOFFSETFROM:-0500
TZOFFSETTO:-0600
TZNAME:CST
DTSTART:20251102T070000
END:STANDARD
END:VTIMEZONE
BEGIN:VEVENT
DTSTART;TZID=America/Chicago:20250418T090000
DTEND;TZID=America/Chicago:20250418T100000
DTSTAMP:20260422T162529
CREATED:20250314T170722Z
LAST-MODIFIED:20250314T174758Z
UID:10003039-1744966800-1744970400@dallasgop.org
SUMMARY:TEN Talk: Ranked Choice Voting in Texas
DESCRIPTION:Join Texas Election Network for:\nTEN Talk: Ranked Choice Voting in Texas \nJoin us for a thought-provoking discussion on ranked choice voting and its potential impact on Texas elections. As election reform continues to be a topic of national conversation\, ranked choice voting has emerged as an alternative to traditional voting methods in several states. But what would this mean for Texas? This TEN Talk will explore the current status of ranked choice voting in Texas law\, what can be learned from other states’ experiences\, and whether additional measures to specifically ban the practice are necessary to protect the integrity of Texas elections. \nIt’s free to attend by Zoom\, but you must register to get a link:\nhttps://us06web.zoom.us/webinar/register/WN_DCY3fLKoSOupIQTEDbMbww#/registration \nHosted by Texas Election Network. The Texas Election Network is dedicated to protecting the integrity of our elections by educating\, equipping\, empowering\, and revitalizing citizen engagement in the electoral process. texaselectionnetwork.org \nEVENT DETAILS:\nWhen: Friday\, April 19th\, 2025\nTime: 9:00 – 10:00 AM CT\nLocation: Zoom (link provided upon registration)\nRegistration Required! Please register in advance to receive the meeting link and access details:\nhttps://us06web.zoom.us/webinar/register/WN_DCY3fLKoSOupIQTEDbMbww#/registration
URL:https://dallasgop.org/event/ten-talk-ranked-choice-voting-in-texas/
LOCATION:Zoom (link provided upon registration)
ATTACH;FMTTYPE=image/jpeg:https://dallasgop.org/wp-content/uploads/2025/03/TEN-Talks-April-18.jpg
END:VEVENT
BEGIN:VEVENT
DTSTART;TZID=America/Chicago:20250404T090000
DTEND;TZID=America/Chicago:20250404T100000
DTSTAMP:20260422T162529
CREATED:20250314T171434Z
LAST-MODIFIED:20250314T171434Z
UID:10003040-1743757200-1743760800@dallasgop.org
SUMMARY:TEN TALK: Understanding Voter ID Laws in Texas: Current Landscape and Future Proposals
DESCRIPTION:Join Texas Election Network for:\nTEN TALK: Understanding Voter ID Laws in Texas: Current Landscape and Future Proposals\nTopic: VOTING RIGHTS LEGISLATION\nFriday\, Apr 4\, 2025\, 09:00 – 10:00 AM CT \nJoin us for an informative discussion on Texas voter identification requirements\, their implementation\, and proposed changes. Our expert panel will examine the history\, impact\, and ongoing debates surrounding these laws. \nIt’s free to attend by Zoom\, but you must register to get a link:\nhttps://us06web.zoom.us/webinar/register/WN_Z_glBX_GR-CzSMasN1HOvw#/registration \nTOPICS MAY INCLUDE:\n• The evolution of Texas voter ID requirements\n• Impact on voter access and participation\n• Recent and proposed legislative changes\n• Comparative analysis with other states’ approaches \nEVENT DETAILS:\nWhen: Friday\, April 4th\, 2025\nTime: 9:00 – 10:00 AM CT\nLocation: Zoom (link provided upon registration)\nRegistration: Required – secure your spot today!:\nhttps://us06web.zoom.us/webinar/register/WN_Z_glBX_GR-CzSMasN1HOvw#/ \nHosted by Texas Election Network. The Texas Election Network is dedicated to protecting the integrity of our elections by educating\, equipping\, empowering\, and revitalizing citizen engagement in the electoral process. texaselectionnetwork.org
URL:https://dallasgop.org/event/ten-talk-understanding-voter-id-laws-in-texas-current-landscape-and-future-proposals/
LOCATION:Zoom (link provided upon registration)
ATTACH;FMTTYPE=image/jpeg:https://dallasgop.org/wp-content/uploads/2025/03/TEN-Talks-April-4.jpg
END:VEVENT
BEGIN:VEVENT
DTSTART;TZID=America/Chicago:20250321T090000
DTEND;TZID=America/Chicago:20250321T100000
DTSTAMP:20260422T162529
CREATED:20250314T172149Z
LAST-MODIFIED:20250314T172149Z
UID:10003041-1742547600-1742551200@dallasgop.org
SUMMARY:TEN TALK (Zoom): TEXAS ELECTIONS - Exploring Voter Roll Bifurcation
DESCRIPTION:Join Texas Election Network for:\nTEN TALK: TEXAS ELECTIONS – Exploring Voter Roll Bifurcation\nMar 21\, 2025\, 9:00 – 10:00 AM CDT \nJoin us for an engaging TEN Talk on Friday\, March 21st at 9 am as we explore the potential benefits and challenges of bifurcating voter rolls in Texas. As several states have already implemented split election systems\, we’ll examine whether this approach aligns with Texas’s unique electoral landscape and values. This timely discussion will offer insights into how election bifurcation could reshape voter participation\, election administration\, and political representation in our state. Don’t miss this opportunity to engage with experts and fellow citizens on a topic that could significantly impact Texas’s electoral future. \nEvent Details:\n• Date: Friday\, March 21st\, 2025\n• Time: 9:00 AM – 10:00 AM\n• Location: Zoom\n• Registration: Required – secure your spot today!: https://us06web.zoom.us/webinar/register/WN_40ysISfNQtGKJyJYmZVRng \nHosted by Texas Election Network. The Texas Election Network is dedicated to protecting the integrity of our elections by educating\, equipping\, empowering\, and revitalizing citizen engagement in the electoral process. \nJoin Us LIVE for TEN Talks\nMarch 21st\, 9-10 am CST\nTexas Elections: Exploring Voter Roll Bifurcation \nIt’s free to attend by Zoom\, but you must register to get a link: https://us06web.zoom.us/webinar/register/WN_40ysISfNQtGKJyJYmZVRng\nLIVE\nDATE: Friday\, March 21\, 2025\nTIME: 9:00 AM to 10:00 AM\nWHERE: Zoom (link sent upon registration)\nTOPIC: Exploring Bifurcating the Voter\nRolls and Elections\nREGISTER FOR 3-21-25\nTEN TALKS \nbi·fur·cate\nverb\ngerund or present participle: bifurcating\n/ˈbīfərˌkāt/\ndivide into two branches or forks.\nExample: “just below Cairo the river bifurcates” \nBifurcation is a word that sounds fancy but has a very simple meaning: splitting or cutting in two. If a stream divides into two smaller streams\, that’s a bifurcation. If you split a company into two divisions\, that’s a bifurcation too. This word can also refer to the exact spot where one thing splits into two. \nThe meaning of BIFURCATE is to cause to divide into two branches or parts.
URL:https://dallasgop.org/event/ten-talk-zoom-texas-elections-exploring-voter-roll-bifurcation/
LOCATION:Zoom (link provided upon registration)
ATTACH;FMTTYPE=image/jpeg:https://dallasgop.org/wp-content/uploads/2025/03/TEN-Talks-March-21.jpg
END:VEVENT
END:VCALENDAR